Workbook

Sheet IMPORTACAO
J2: DAI - DOCUMENTO DE ARRECADAÇÃO DE IMPORTAÇÃO
H3: 27.950.582/0001-23 - CONCESSIONARIA DO AEROPORTO DE SALVADOR S.A. | DD3: 2026
DD4: PER | DE4: TAB | DF4: % | DG4: MINIMO | DI4: FAIXA
D5: HORA DE ENTRADA NO TECA | N5: CIF R$ | X5: PESO B | AC5: PESO L | CU5: - | DD5: 1 | DE5: 06 | DF5: 0.0075 | DI5: 8113.22
D6: 46271 | N6: 316189.97 | X6: 31.55 | AC6: 1111 | CU6: 6 | DD6: 2 | DE6: =DE5 -> 06 | DF6: 0.015 | DI6: =DI5 -> 8113.22
N7: =IF(AC6=0,0,N6/AC6) -> 284.59943 | AH7: {=IF($G$10="TAB06",_xlfn.XLOOKUP(AH6,DD$24:DD$26,DH$24:DH$26,0),IF($N$7<=$DI$28,_xlfn.XLOOKUP(AH6,DD$28:DD$30,DH$28:DH$30,0),IF($N$7<=$DI$32,_xlfn.XLOOKUP(AH6,$DD$32:$DD$34,DH$32:DH34,0),_xlfn.XLOOKUP(AH6,DD36:DD38,DH36:DH38,0))))-IF(AH6<>"-",IF(AH6<>"",CU11,0),0)*IF(N6<=0,0,1)} -> 0 | CU7: 12 | DD7: 3 | DE7: =DE6 -> 06 | DF7: 0.0225 | DI7: =DI6 -> 8113.22
B8: VALOR A PAGAR | CU8: 24 | CV8: =AH6 -> 0 | DD8: 4 | DE8: =DE7 -> 06 | DF8: =DF7+$DF$7 -> 0.045 | DI8: =DI7 -> 8113.22
D9: Data de vencimento de acordo com a data da retirada da carga. | CU9: Sim | DD9: 5 | DE9: =DE8 -> 06 | DF9: =DF8+$DF$7 -> 0.0675 | DI9: =DI8 -> 8113.22
D10: Periodo | G10: =IF($N$7>IMPORTACAO!$DI$5,"TAB10","TAB06") -> TAB06 | K10: =IF($N$7>IMPORTACAO!$DI$5,"-","TAB07") -> TAB07 | O10: =IF($AH$6>0,"TAB EXPRESSA","-") -> - | S10: - | W10: Valor devido | AB10: Data vencimento | CU10: Não | DD10: 6 | DE10: =DE9 -> 06 | DF10: =DF9+$DF$7 -> 0.09 | DI10: =DI9 -> 8113.22
B11: SIMULAÇÃO | D11: 01 | G11: =ROUND($N$6*CU11,2) -> 2371.42 | K11: =ROUND(IF($K$10="TAB07",IF(($X$6*IMPORTACAO!$DF$16)<IMPORTACAO!$DG$16,IMPORTACAO!$DG$16,$X$6*IMPORTACAO!$DF$16),0),2)*IF($X$6<=0,0,1) -> 22.03 | W11: =G11+K11+O11 -> 2393.45 | AB11: =IF($G$10="TAB06",IF($D$6>0,D6+1,""),IF($D$6>0,D6+2,"")) -> 46272 | CT11: =VALUE(D11) -> 1 | CU11: =IF($G$10="TAB06",_xlfn.XLOOKUP(CT11,IMPORTACAO!$DD$5:$DD$14,IMPORTACAO!$DF$5:$DF$14),IF($N$7<=IMPORTACAO!$DI$20,IMPORTACAO!$DF$20,IF($N$7<=IMPORTACAO!$DI$21,IMPORTACAO!$DF$21,IMPORTACAO!$DF$22))*CT11) -> 0.0075 | DD11: 7 | DE11: =DE10 -> 06 | DF11: =DF10+$DF$7 -> 0.1125 | DI11: =DI10 -> 8113.22
D12: 02 | G12: =ROUND($N$6*CU12,2) -> 4742.85 | K12: =ROUND(IF($K$10="TAB07",IF(($X$6*IMPORTACAO!$DF$16)<IMPORTACAO!$DG$16,IMPORTACAO!$DG$16,$X$6*IMPORTACAO!$DF$16),0),2)*IF($X$6<=0,0,1) -> 22.03 | W12: =G12+K12+O12 -> 4764.88 | AB12: =IF($G$10="TAB06",IF($D$6>0,AB11+3,""),IF($D$6>0,AB11+3,"")) -> 46275 | CT12: =VALUE(D12) -> 2 | CU12: =IF($G$10="TAB06",_xlfn.XLOOKUP(CT12,IMPORTACAO!$DD$5:$DD$14,IMPORTACAO!$DF$5:$DF$14),IF($N$7<=IMPORTACAO!$DI$20,IMPORTACAO!$DF$20,IF($N$7<=IMPORTACAO!$DI$21,IMPORTACAO!$DF$21,IMPORTACAO!$DF$22))*CT12) -> 0.015 | DD12: 8 | DE12: =DE11 -> 06 | DF12: =DF11+$DF$7 -> 0.135 | DI12: =DI11 -> 8113.22
D13: 03 | G13: =ROUND($N$6*CU13,2) -> 7114.27 | K13: =ROUND(IF($K$10="TAB07",IF(($X$6*IMPORTACAO!$DF$16)<IMPORTACAO!$DG$16,IMPORTACAO!$DG$16,$X$6*IMPORTACAO!$DF$16),0),2)*IF($X$6<=0,0,1) -> 22.03 | W13: =G13+K13+O13 -> 7136.3 | AB13: =IF($G$10="TAB06",IF($D$6>0,AB12+5,""),IF($D$6>0,AB12+3,"")) -> 46280 | CT13: =VALUE(D13) -> 3 | CU13: =IF($G$10="TAB06",_xlfn.XLOOKUP(CT13,IMPORTACAO!$DD$5:$DD$14,IMPORTACAO!$DF$5:$DF$14),IF($N$7<=IMPORTACAO!$DI$20,IMPORTACAO!$DF$20,IF($N$7<=IMPORTACAO!$DI$21,IMPORTACAO!$DF$21,IMPORTACAO!$DF$22))*CT13) -> 0.0225 | DD13: 9 | DE13: =DE12 -> 06 | DF13: =DF12+$DF$7 -> 0.1575 | DI13: =DI12 -> 8113.22
D14: 04 | G14: =ROUND($N$6*CU14,2) -> 14228.55 | K14: =ROUND(IF($K$10="TAB07",IF(($X$6*IMPORTACAO!$DF$16)<IMPORTACAO!$DG$16,IMPORTACAO!$DG$16,$X$6*IMPORTACAO!$DF$16),0),2)*IF($X$6<=0,0,1) -> 22.03 | W14: =G14+K14+O14 -> 14250.58 | AB14: =IF($G$10="TAB06",IF($D$6>0,AB13+10,""),IF($D$6>0,AB13+3,"")) -> 46290 | CT14: =VALUE(D14) -> 4 | CU14: =IF($G$10="TAB06",_xlfn.XLOOKUP(CT14,IMPORTACAO!$DD$5:$DD$14,IMPORTACAO!$DF$5:$DF$14),IF($N$7<=IMPORTACAO!$DI$20,IMPORTACAO!$DF$20,IF($N$7<=IMPORTACAO!$DI$21,IMPORTACAO!$DF$21,IMPORTACAO!$DF$22))*CT14) -> 0.045 | DD14: 10 | DE14: =DE13 -> 06 | DF14: =DF13+$DF$7 -> 0.18 | DI14: =DI13 -> 8113.22
D15: 05 | G15: =ROUND($N$6*CU15,2) -> 21342.82 | K15: =ROUND(IF($K$10="TAB07",IF(($X$6*IMPORTACAO!$DF$16)<IMPORTACAO!$DG$16,IMPORTACAO!$DG$16,$X$6*IMPORTACAO!$DF$16),0),2)*IF($X$6<=0,0,1) -> 22.03 | W15: =G15+K15+O15 -> 21364.85 | AB15: =IF($G$10="TAB06",IF($D$6>0,AB14+10,""),IF($D$6>0,AB14+3,"")) -> 46300 | CT15: =VALUE(D15) -> 5 | CU15: =IF($G$10="TAB06",_xlfn.XLOOKUP(CT15,IMPORTACAO!$DD$5:$DD$14,IMPORTACAO!$DF$5:$DF$14),IF($N$7<=IMPORTACAO!$DI$20,IMPORTACAO!$DF$20,IF($N$7<=IMPORTACAO!$DI$21,IMPORTACAO!$DF$21,IMPORTACAO!$DF$22))*CT15) -> 0.0675
D16: 06 | G16: =ROUND($N$6*CU16,2) -> 28457.1 | K16: =ROUND(IF($K$10="TAB07",IF(($X$6*IMPORTACAO!$DF$16)<IMPORTACAO!$DG$16,IMPORTACAO!$DG$16,$X$6*IMPORTACAO!$DF$16),0),2)*IF($X$6<=0,0,1) -> 22.03 | W16: =G16+K16+O16 -> 28479.13 | AB16: =IF($G$10="TAB06",IF($D$6>0,AB15+10,""),IF($D$6>0,AB15+3,"")) -> 46310 | CT16: =VALUE(D16) -> 6 | CU16: =IF($G$10="TAB06",_xlfn.XLOOKUP(CT16,IMPORTACAO!$DD$5:$DD$14,IMPORTACAO!$DF$5:$DF$14),IF($N$7<=IMPORTACAO!$DI$20,IMPORTACAO!$DF$20,IF($N$7<=IMPORTACAO!$DI$21,IMPORTACAO!$DF$21,IMPORTACAO!$DF$22))*CT16) -> 0.09 | DD16: - | DE16: 07 | DF16: 0.0915 | DG16: 22.03
D17: 07 | G17: =ROUND($N$6*CU17,2) -> 35571.37 | K17: =ROUND(IF($K$10="TAB07",IF(($X$6*IMPORTACAO!$DF$16)<IMPORTACAO!$DG$16,IMPORTACAO!$DG$16,$X$6*IMPORTACAO!$DF$16),0),2)*IF($X$6<=0,0,1) -> 22.03 | W17: =G17+K17+O17 -> 35593.4 | AB17: =IF($G$10="TAB06",IF($D$6>0,AB16+10,""),IF($D$6>0,AB16+3,"")) -> 46320 | CT17: =VALUE(D17) -> 7 | CU17: =IF($G$10="TAB06",_xlfn.XLOOKUP(CT17,IMPORTACAO!$DD$5:$DD$14,IMPORTACAO!$DF$5:$DF$14),IF($N$7<=IMPORTACAO!$DI$20,IMPORTACAO!$DF$20,IF($N$7<=IMPORTACAO!$DI$21,IMPORTACAO!$DF$21,IMPORTACAO!$DF$22))*CT17) -> 0.1125
D18: 08 | G18: =ROUND($N$6*CU18,2) -> 42685.65 | K18: =ROUND(IF($K$10="TAB07",IF(($X$6*IMPORTACAO!$DF$16)<IMPORTACAO!$DG$16,IMPORTACAO!$DG$16,$X$6*IMPORTACAO!$DF$16),0),2)*IF($X$6<=0,0,1) -> 22.03 | W18: =G18+K18+O18 -> 42707.68 | AB18: =IF($G$10="TAB06",IF($D$6>0,AB17+10,""),IF($D$6>0,AB17+3,"")) -> 46330 | CT18: =VALUE(D18) -> 8 | CU18: =IF($G$10="TAB06",_xlfn.XLOOKUP(CT18,IMPORTACAO!$DD$5:$DD$14,IMPORTACAO!$DF$5:$DF$14),IF($N$7<=IMPORTACAO!$DI$20,IMPORTACAO!$DF$20,IF($N$7<=IMPORTACAO!$DI$21,IMPORTACAO!$DF$21,IMPORTACAO!$DF$22))*CT18) -> 0.135 | DD18: - | DE18: 09 | DF18: 1.5279 | DG18: 110.26
D19: 09 | G19: =ROUND($N$6*CU19,2) -> 49799.92 | K19: =ROUND(IF($K$10="TAB07",IF(($X$6*IMPORTACAO!$DF$16)<IMPORTACAO!$DG$16,IMPORTACAO!$DG$16,$X$6*IMPORTACAO!$DF$16),0),2)*IF($X$6<=0,0,1) -> 22.03 | W19: =G19+K19+O19 -> 49821.95 | AB19: =IF($G$10="TAB06",IF($D$6>0,AB18+10,""),IF($D$6>0,AB18+3,"")) -> 46340 | CT19: =VALUE(D19) -> 9 | CU19: =IF($G$10="TAB06",_xlfn.XLOOKUP(CT19,IMPORTACAO!$DD$5:$DD$14,IMPORTACAO!$DF$5:$DF$14),IF($N$7<=IMPORTACAO!$DI$20,IMPORTACAO!$DF$20,IF($N$7<=IMPORTACAO!$DI$21,IMPORTACAO!$DF$21,IMPORTACAO!$DF$22))*CT19) -> 0.1575
D20: 10 | G20: =ROUND($N$6*CU20,2) -> 56914.19 | K20: =ROUND(IF($K$10="TAB07",IF(($X$6*IMPORTACAO!$DF$16)<IMPORTACAO!$DG$16,IMPORTACAO!$DG$16,$X$6*IMPORTACAO!$DF$16),0),2)*IF($X$6<=0,0,1) -> 22.03 | W20: =G20+K20+O20 -> 56936.22 | AB20: =IF($G$10="TAB06",IF($D$6>0,AB19+10,""),IF($D$6>0,AB19+3,"")) -> 46350 | CT20: =VALUE(D20) -> 10 | CU20: =IF($G$10="TAB06",_xlfn.XLOOKUP(CT20,IMPORTACAO!$DD$5:$DD$14,IMPORTACAO!$DF$5:$DF$14),IF($N$7<=IMPORTACAO!$DI$20,IMPORTACAO!$DF$20,IF($N$7<=IMPORTACAO!$DI$21,IMPORTACAO!$DF$21,IMPORTACAO!$DF$22))*CT20) -> 0.18 | DE20: 10 | DF20: 0.006 | DI20: 32452.88
D21: TECA SSA - Funcionamento 24 x 7 - dias úteis | DE21: 10 | DF21: 0.003 | DI21: 129811.56
DE22: 10 | DF22: 0.0015
DD40: TAB03 | DE40: 0 | DF40: 0
DD42: TAB11 | DE42: 0.1223 | DF42: 8.83

Sheet EXPORTACAO
L2: DAE - DOCUMENTO DE ARRECADAÇÃO DE EXPORTAÇÃO
H3: 27.950.582/0001-23 - CONCESSIONARIA DO AEROPORTO DE SALVADOR S.A.
D5: HORA DE ENTRADA NO TECA | O5: FOB R$ | Y5: VOLUME | AD5: PESO B | AX5: 0.1177 | AY5: 7.43 | BG5: Sim
D6: 46184 | O6: 1 | Y6: 5 | AD6: 6049 | BG6: Não
B8: VALOR A PAGAR
D9: Data de vencimento de acordo com a data da retirada da carga. | AC9: =IF(AQ11>1,"Valor mínimo até:","") | AJ9: =IF(AQ11>1,IF(G11=G12,AC12,AC11),"")
D10: Periodo | G10: TAB11 | X10: Valor devido | AC10: Data vencimento
B11: SIMULAÇÃO | D11: =TEXT(AQ11,"00") -> 01 | G11: =IF(AR11<$AY$5,$AY$5,AR11)*IF($AD$6<=0,0,1) -> 711.97 | X11: =G11+L11+P11 -> 711.97 | AC11: =IF($D$6>0,IF(AQ11=1,$D$6+3,$D$6+(2*AQ11)+1),"") -> 46187 | AQ11: =IF(AD6>0,IF(INT(AY5/(AD6*AX5))>0,INT(AY5/(AD6*AX5)),1),1) -> 1 | AR11: =ROUND($AD$6*$AX$5*AQ11,2) -> 711.97
D12: =TEXT(AQ12,"00") -> 02 | G12: =IF(AR12<$AY$5,$AY$5,AR12)*IF($AD$6<=0,0,1) -> 1423.93 | X12: =G12+L12+P12 -> 1423.93 | AC12: =IF($D$6>0,AC11+2,"") -> 46189 | AQ12: =AQ11+1 -> 2 | AR12: =ROUND($AD$6*$AX$5*AQ12,2) -> 1423.93
D13: =TEXT(AQ13,"00") -> 03 | G13: =IF(AR13<$AY$5,$AY$5,AR13)*IF($AD$6<=0,0,1) -> 2135.9 | X13: =G13+L13+P13 -> 2135.9 | AC13: =IF($D$6>0,AC12+2,"") -> 46191 | AQ13: =AQ12+1 -> 3 | AR13: =ROUND($AD$6*$AX$5*AQ13,2) -> 2135.9
D14: =TEXT(AQ14,"00") -> 04 | G14: =IF(AR14<$AY$5,$AY$5,AR14)*IF($AD$6<=0,0,1) -> 2847.87 | X14: =G14+L14+P14 -> 2847.87 | AC14: =IF($D$6>0,AC13+2,"") -> 46193 | AQ14: =AQ13+1 -> 4 | AR14: =ROUND($AD$6*$AX$5*AQ14,2) -> 2847.87
D15: =TEXT(AQ15,"00") -> 05 | G15: =IF(AR15<$AY$5,$AY$5,AR15)*IF($AD$6<=0,0,1) -> 3559.84 | X15: =G15+L15+P15 -> 3559.84 | AC15: =IF($D$6>0,AC14+2,"") -> 46195 | AQ15: =AQ14+1 -> 5 | AR15: =ROUND($AD$6*$AX$5*AQ15,2) -> 3559.84
D16: =TEXT(AQ16,"00") -> 06 | G16: =IF(AR16<$AY$5,$AY$5,AR16)*IF($AD$6<=0,0,1) -> 4271.8 | X16: =G16+L16+P16 -> 4271.8 | AC16: =IF($D$6>0,AC15+2,"") -> 46197 | AQ16: =AQ15+1 -> 6 | AR16: =ROUND($AD$6*$AX$5*AQ16,2) -> 4271.8
D17: =TEXT(AQ17,"00") -> 07 | G17: =IF(AR17<$AY$5,$AY$5,AR17)*IF($AD$6<=0,0,1) -> 4983.77 | X17: =G17+L17+P17 -> 4983.77 | AC17: =IF($D$6>0,AC16+2,"") -> 46199 | AQ17: =AQ16+1 -> 7 | AR17: =ROUND($AD$6*$AX$5*AQ17,2) -> 4983.77
D18: =TEXT(AQ18,"00") -> 08 | G18: =IF(AR18<$AY$5,$AY$5,AR18)*IF($AD$6<=0,0,1) -> 5695.74 | X18: =G18+L18+P18 -> 5695.74 | AC18: =IF($D$6>0,AC17+2,"") -> 46201 | AQ18: =AQ17+1 -> 8 | AR18: =ROUND($AD$6*$AX$5*AQ18,2) -> 5695.74
D19: =TEXT(AQ19,"00") -> 09 | G19: =IF(AR19<$AY$5,$AY$5,AR19)*IF($AD$6<=0,0,1) -> 6407.71 | X19: =G19+L19+P19 -> 6407.71 | AC19: =IF($D$6>0,AC18+2,"") -> 46203 | AQ19: =AQ18+1 -> 9 | AR19: =ROUND($AD$6*$AX$5*AQ19,2) -> 6407.71
D20: =TEXT(AQ20,"00") -> 10 | G20: =IF(AR20<$AY$5,$AY$5,AR20)*IF($AD$6<=0,0,1) -> 7119.67 | X20: =G20+L20+P20 -> 7119.67 | AC20: =IF($D$6>0,AC19+2,"") -> 46205 | AQ20: =AQ19+1 -> 10 | AR20: =ROUND($AD$6*$AX$5*AQ20,2) -> 7119.67
D21: TECA SSA - Funcionamento 24 x 7 - dias úteis
